BEGIN:VCALENDAR
VERSION:2.0
PRODID:-//Tukios.com/
BEGIN:VEVENT
UID:09ae1287-eda1-4c72-bff1-31143eb03f87@www.doughertyfuneralduluth.com
DTSTAMP:20260420T214720Z
DTSTART:20260423T160000Z
DTEND:20260423T163000Z
SUMMARY:Graveside Service
DESCRIPTION:
URL:https://www.doughertyfuneralduluth.com/obituaries/william-b-bill-lind
LOCATION:Industrial Cemetery HWY 8  Culver MN 55779
GEO:46.9238566;-92.5008559
END:VEVENT
END:VCALENDAR