BEGIN:VCALENDAR
VERSION:2.0
PRODID:-//Tukios.com/
BEGIN:VEVENT
UID:d85a4986-3239-45f1-b4ae-d97eb6d6af56@www.doughertyfuneralduluth.com
DTSTAMP:20260420T233857Z
DTSTART:20260511T150000Z
DTEND:20260511T160000Z
SUMMARY:Mass
DESCRIPTION:
URL:https://www.doughertyfuneralduluth.com/obituaries/lawrence-larry-sieger
LOCATION: 4901 E Superior St  Duluth MN 55804
GEO:46.8319857;-92.0251382
END:VEVENT
END:VCALENDAR