BEGIN:VCALENDAR
VERSION:2.0
PRODID:-//Tukios.com/
BEGIN:VEVENT
UID:64faf0e2-fddc-43fe-bd9c-4145864c190d@www.doughertyfuneralduluth.com
DTSTAMP:20260420T233652Z
DTSTART:20260511T140000Z
DTEND:20260511T150000Z
SUMMARY:Visitation
DESCRIPTION:
URL:https://www.doughertyfuneralduluth.com/obituaries/lawrence-larry-sieger
LOCATION:St. Michael’s Church 4901 East Superior Street  Duluth MN 
	55804
GEO:46.8320199;-92.0251735
END:VEVENT
END:VCALENDAR