BEGIN:VCALENDAR
VERSION:2.0
PRODID:-//Tukios.com/
BEGIN:VEVENT
UID:bef8b314-5c23-4280-9b5d-ea90d2e8cdaa@www.doughertyfuneralduluth.com
DTSTAMP:20260420T233338Z
DTSTART:20260510T200000Z
DTEND:20260510T220000Z
SUMMARY:Visitation
DESCRIPTION:
URL:https://www.doughertyfuneralduluth.com/obituaries/lawrence-larry-sieger
LOCATION:Dougherty Funeral Home 600 E 2nd St  Duluth MN 55805
GEO:46.7939949;-92.0923303
END:VEVENT
END:VCALENDAR