BEGIN:VCALENDAR
VERSION:2.0
PRODID:-//Tukios.com/
BEGIN:VEVENT
UID:098c6baf-abda-400b-8499-99bccdea3803@www.doughertyfuneralduluth.com
DTSTAMP:20260422T083544Z
DTSTART:20260422T160000Z
DTEND:20260422T170000Z
SUMMARY:Funeral Service
DESCRIPTION:
URL:https://www.doughertyfuneralduluth.com/obituaries/debra-van-guilder
LOCATION:Duluth Bible Church 201 W. St. Andrew  Duluth MN 55803
GEO:46.8317706;-92.0740557
END:VEVENT
END:VCALENDAR