BEGIN:VCALENDAR
VERSION:2.0
PRODID:-//Tukios.com/
BEGIN:VEVENT
UID:4ed23f91-a191-4202-be57-00edf7681856@www.doughertyfuneralduluth.com
DTSTAMP:20260422T084405Z
DTSTART:20260422T150000Z
DTEND:20260422T160000Z
SUMMARY:Visitation
DESCRIPTION:
URL:https://www.doughertyfuneralduluth.com/obituaries/debra-van-guilder
LOCATION:Duluth Bible Church 201 W. St. Andrew  Duluth MN 55803
GEO:46.8317706;-92.0740557
END:VEVENT
END:VCALENDAR